BEGIN:VCALENDAR
VERSION:2.0
PRODID:-//Tukios.com/
BEGIN:VEVENT
UID:05f236ae-5acf-4575-bf4f-41e6026ace00@obits.jonesfuneralhome.co
DTSTAMP:20260424T234712Z
DTSTART:20260428T150000Z
DTEND:20260428T160000Z
SUMMARY:Graveside Service
DESCRIPTION:
URL:https://obits.jonesfuneralhome.co/elgin-terry
LOCATION:    Halton Hills ON L0P 1K0
GEO:43.6429739;-79.8569252
END:VEVENT
END:VCALENDAR