BEGIN:VCALENDAR
VERSION:2.0
PRODID:-//Tukios.com/
BEGIN:VEVENT
UID:c5f15edc-0f57-4ea6-a25b-561ef941617b@obits.jonesfuneralhome.co
DTSTAMP:20260424T010549Z
DTSTART:20260427T150000Z
DTEND:20260427T170000Z
SUMMARY:Visitation
DESCRIPTION:
URL:https://obits.jonesfuneralhome.co/anna-kirec
LOCATION:Jones Funeral Home 11582 Trafalgar Road  Georgetown ON L7G 4Y5
GEO:43.639477;-79.9379037
END:VEVENT
END:VCALENDAR